BEGIN:VCALENDAR
VERSION:2.0
PRODID:-//Prospects - ECPv5.14.1//NONSGML v1.0//EN
CALSCALE:GREGORIAN
METHOD:PUBLISH
X-WR-CALNAME:Prospects
X-ORIGINAL-URL:https://prospectsfoundation.org.uk
X-WR-CALDESC:Events for Prospects
BEGIN:VTIMEZONE
TZID:Europe/London
BEGIN:DAYLIGHT
TZOFFSETFROM:+0000
TZOFFSETTO:+0100
TZNAME:BST
DTSTART:20250330T010000
END:DAYLIGHT
BEGIN:STANDARD
TZOFFSETFROM:+0100
TZOFFSETTO:+0000
TZNAME:GMT
DTSTART:20251026T010000
END:STANDARD
END:VTIMEZONE
BEGIN:VEVENT
DTSTART;TZID=Europe/London:20251201T173000
DTEND;TZID=Europe/London:20251201T203000
DTSTAMP:20260422T123913
CREATED:20251128T120956Z
LAST-MODIFIED:20251128T121513Z
UID:15874-1764610200-1764621000@prospectsfoundation.org.uk
SUMMARY:Christmas Crafts at Stanhill Methodist Church
DESCRIPTION:Join Alice for a festive craft session at Stanhill Methodist Church. We will be making embroidered Christmas Cards\, natural tree decorations\, and more! \nThis session is family friendly. Under 18s must be supervised by an adult. No dogs at this one\, please! \nAll materials will be provided. \nTo find out more or confirm your attendance\, please contact Alice at alice.pooley@prospectsfoundation.org.uk\, telephone 01254 230348\, or call into the Prospects office at 54 Broadway\, Accrington\, BB5 1EW. \nChristmas Crafts at Stanhill Methodist Church
URL:https://prospectsfoundation.org.uk/event/christmas-crafts-at-stanhill-methodist-church/
LOCATION:Stanhill Social Club\, Stanhill Road\, Oswaldtwistle\, BB5 4PP
CATEGORIES:Conservation,Health and wellbeing,Volunteering,Walking,Woodlands
ATTACH;FMTTYPE=image/png:https://prospectsfoundation.org.uk/wp-content/uploads/2025/02/Logo-2.0.png
ORGANIZER;CN="Alice%20Pooley":MAILTO:alice.pooley@prospectsfoundation.org.uk
END:VEVENT
END:VCALENDAR