BEGIN:VCALENDAR
VERSION:2.0
PRODID:-//Prospects - ECPv5.14.1//NONSGML v1.0//EN
CALSCALE:GREGORIAN
METHOD:PUBLISH
X-WR-CALNAME:Prospects
X-ORIGINAL-URL:https://prospectsfoundation.org.uk
X-WR-CALDESC:Events for Prospects
BEGIN:VTIMEZONE
TZID:Europe/London
BEGIN:DAYLIGHT
TZOFFSETFROM:+0000
TZOFFSETTO:+0100
TZNAME:BST
DTSTART:20210328T010000
END:DAYLIGHT
BEGIN:STANDARD
TZOFFSETFROM:+0100
TZOFFSETTO:+0000
TZNAME:GMT
DTSTART:20211031T010000
END:STANDARD
END:VTIMEZONE
BEGIN:VEVENT
DTSTART;TZID=Europe/London:20211009T100000
DTEND;TZID=Europe/London:20211009T150000
DTSTAMP:20260422T213448
CREATED:20210914T155501Z
LAST-MODIFIED:20210914T155950Z
UID:5675-1633773600-1633791600@prospectsfoundation.org.uk
SUMMARY:Bushcraft Club
DESCRIPTION:Join Danielle and Gareth for our monthly ‘Bushcraft Club’! \nBushcraft club is an opportunity to learn and practice your bushcraft skills and knowledge. \nChildren aged 8 and over are welcome accompanied by a parent or guardian on a 1:1 basis and must be supervised by their responsible adult at all times as there will be use of knives\, sharp tools and fire. \nBOOKING IS ESSENTIAL! \nIn order to provide a safe working environment booking a place is essential\, individuals turning up on the day will be unfortunately turned away. \nPlease contact Danielle – danielle.rowlands@prospectsfoundation.org.uk or Gareth – gareth.muir@prospectsfoundation.org.uk to book your place. \nBushcraft Club
URL:https://prospectsfoundation.org.uk/event/bushcraft-club/
LOCATION:Huncoats woodland
CATEGORIES:Outdoor Learning,Traditional Crafts,Woodlands
ORGANIZER;CN="Gareth%20Muir%20-%20Woodlands%20Officer":MAILTO:gareth.muir@prospectsfoundation.org.uk
END:VEVENT
END:VCALENDAR