BEGIN:VCALENDAR
VERSION:2.0
PRODID:-//Prospects - ECPv5.14.1//NONSGML v1.0//EN
CALSCALE:GREGORIAN
METHOD:PUBLISH
X-WR-CALNAME:Prospects
X-ORIGINAL-URL:https://prospectsfoundation.org.uk
X-WR-CALDESC:Events for Prospects
BEGIN:VTIMEZONE
TZID:Europe/London
BEGIN:DAYLIGHT
TZOFFSETFROM:+0000
TZOFFSETTO:+0100
TZNAME:BST
DTSTART:20240331T010000
END:DAYLIGHT
BEGIN:STANDARD
TZOFFSETFROM:+0100
TZOFFSETTO:+0000
TZNAME:GMT
DTSTART:20241027T010000
END:STANDARD
END:VTIMEZONE
BEGIN:VEVENT
DTSTART;TZID=Europe/London:20240530T100000
DTEND;TZID=Europe/London:20240530T150000
DTSTAMP:20260422T095637
CREATED:20240521T115000Z
LAST-MODIFIED:20240521T115000Z
UID:12110-1717063200-1717081200@prospectsfoundation.org.uk
SUMMARY:Brookside Spring Maintenance Day
DESCRIPTION:Join our Brookside Restoration Coordinator Alice for a day of practical maintenance work on the brand new Brookside Site! \nSpring has sprung and Brookside is flush with new leaves\, flowers\, and wildlife. Unfortunately\, the arrival of warmer weather means that the invasive non-native Himalayan Balsam is rapidly growing and spreading\, and will soon be forming seed pods ready to take over more of the site. \nWith your help\, we can “bash” the Balsam into submission\, and allow native species to thrive. \nWe will also be removing tree guards that have been left on site since the ELWOOD planting scheme of the early 2000s\, which will keep our precious trees healthy as they mature. \nMeeting point is the Kemp Delph entrance to Brookside\, on Stanhill Road. Staff will be in orange hi-vis. \nWhat3words: crowned.sits.paths  \nNo experience is necessary – just bring your enthusiasm! Come for part of the day if that works better for you. \n\nAll ages welcome but under 18s must be accompanied by a parent or guardian.\nPlease wear suitable outdoor clothes (long trousers and wellies/ walking boots)\nPlease bring lunch. Teas\, coffees\, and biscuits will be provided by PROSPECTS\n\nThere are no toilets on site\, but there is a pub close-by which has full facilities. \nTo find out more or confirm your attendance\, please contact Alice at alice.pooley@prospectsfoundation.org.uk\, telephone 01254 230348\, or call into the Prospects office at 54 Broadway\, Accrington\, BB5 1EW. \n \nBrookside Spring Maintenance Day
URL:https://prospectsfoundation.org.uk/event/brookside-spring-maintenance-day-3/
LOCATION:Brookside\, Stanhill Road\, Oswaldtwistle\, BB5 4PP
CATEGORIES:Conservation,Health and wellbeing,Volunteering,Woodlands
ATTACH;FMTTYPE=image/jpeg:https://prospectsfoundation.org.uk/wp-content/uploads/2024/05/1000034018.jpg
ORGANIZER;CN="Alice%20Pooley":MAILTO:alice.pooley@prospectsfoundation.org.uk
END:VEVENT
END:VCALENDAR