BEGIN:VCALENDAR
VERSION:2.0
PRODID:-//Prospects - ECPv5.14.1//NONSGML v1.0//EN
CALSCALE:GREGORIAN
METHOD:PUBLISH
X-WR-CALNAME:Prospects
X-ORIGINAL-URL:https://prospectsfoundation.org.uk
X-WR-CALDESC:Events for Prospects
BEGIN:VTIMEZONE
TZID:Europe/London
BEGIN:DAYLIGHT
TZOFFSETFROM:+0000
TZOFFSETTO:+0100
TZNAME:BST
DTSTART:20240331T010000
END:DAYLIGHT
BEGIN:STANDARD
TZOFFSETFROM:+0100
TZOFFSETTO:+0000
TZNAME:GMT
DTSTART:20241027T010000
END:STANDARD
END:VTIMEZONE
BEGIN:VEVENT
DTSTART;TZID=Europe/London:20240830T180000
DTEND;TZID=Europe/London:20240830T203000
DTSTAMP:20260420T021236
CREATED:20240730T131010Z
LAST-MODIFIED:20240730T131010Z
UID:12441-1725040800-1725049800@prospectsfoundation.org.uk
SUMMARY:Brookside Campfire and Crafts (16+)
DESCRIPTION:Join our Brookside Restoration Officer Alice for an evening of campfire crafts. Exact activities are subject to change but think whittling\, charcoal mark marking\, and marshmallows! This particular event is aimed at those aged 16+\, with anyone under 18 accompanied by an adult at all times please.  Well behaved dogs on leads are welcome at the owners own risk. \nWarm layers\, bug spray\, and a camping chair are all recommended. All craft materials will be supplied by PROSPECTS. \nAs usual\, we will be meeting at the Kemp Delph Entrance on Stanhill Road. There is now a large noticeboard to mark the meeting point! \nWhat3words: Crowned.Sits.Paths \nThis event will take place in the forest and\, as such\,  in the event of strong winds or rain\, the session will be postponed! \nAttendance for this event is limited! To reserve your place\,  contact Alice at alice.pooley@prospectsfoundation.org.uk \n\nBrookside Campfire and Crafts (16+)
URL:https://prospectsfoundation.org.uk/event/brookside-campfire-and-crafts-16/
LOCATION:Brookside\, Stanhill Road\, Oswaldtwistle\, BB5 4PP
CATEGORIES:Health and wellbeing,Nature Crafts,Outdoor Learning,Traditional Crafts,Woodlands
ATTACH;FMTTYPE=image/jpeg:https://prospectsfoundation.org.uk/wp-content/uploads/2024/07/IMG-20240729-WA0043_cropped4x3.jpg
ORGANIZER;CN="Alice%20Pooley":MAILTO:alice.pooley@prospectsfoundation.org.uk
END:VEVENT
END:VCALENDAR