BEGIN:VCALENDAR
VERSION:2.0
PRODID:-//Prospects - ECPv5.14.1//NONSGML v1.0//EN
CALSCALE:GREGORIAN
METHOD:PUBLISH
X-WR-CALNAME:Prospects
X-ORIGINAL-URL:https://prospectsfoundation.org.uk
X-WR-CALDESC:Events for Prospects
BEGIN:VTIMEZONE
TZID:Europe/London
BEGIN:DAYLIGHT
TZOFFSETFROM:+0000
TZOFFSETTO:+0100
TZNAME:BST
DTSTART:20250330T010000
END:DAYLIGHT
BEGIN:STANDARD
TZOFFSETFROM:+0100
TZOFFSETTO:+0000
TZNAME:GMT
DTSTART:20251026T010000
END:STANDARD
END:VTIMEZONE
BEGIN:VEVENT
DTSTART;TZID=Europe/London:20250322T100000
DTEND;TZID=Europe/London:20250323T140000
DTSTAMP:20260421T212138
CREATED:20250228T132056Z
LAST-MODIFIED:20250314T153359Z
UID:13997-1742637600-1742738400@prospectsfoundation.org.uk
SUMMARY:Brookside Big Weekend (Family Friendly)
DESCRIPTION:  \nJoin us on Saturday the 22nd and Sunday the 23rd of March from 10-2pm for a wildflower seed planting bonanza. As the saying goes\, many hands make light work! \nWe meet at the Noticeboard by the Stanhill Road entrance to the site at 10am (see the map below) \n \nAll are welcome but under 18s must be supervised by an adult. \nPlease bring a packed lunch. \nThe paths can be rutted and boggy\, so are unsuitable for those with limited mobility. \nWaterproofs\, boots\, and sturdy clothes are highly recommended. \nTo find out more or confirm your attendance\, please contact Alice at alice.pooley@prospectsfoundation.org.uk\, telephone 01254 230348\, or call into the Prospects office at 54 Broadway\, Accrington\, BB5 1EW. \nBrookside Big Weekend (Family Friendly)
URL:https://prospectsfoundation.org.uk/event/brookside-big-weekend-family-friendly/
LOCATION:Brookside\, Stanhill Road\, Oswaldtwistle\, BB5 4PP
CATEGORIES:Conservation,Health and wellbeing,Volunteering,Walking,Woodlands
ATTACH;FMTTYPE=image/png:https://prospectsfoundation.org.uk/wp-content/uploads/2025/02/Brookside-Big-weekend-Document-A4-1.png
ORGANIZER;CN="Alice%20Pooley":MAILTO:alice.pooley@prospectsfoundation.org.uk
END:VEVENT
END:VCALENDAR