BEGIN:VCALENDAR
VERSION:2.0
PRODID:-//Prospects - ECPv5.14.1//NONSGML v1.0//EN
CALSCALE:GREGORIAN
METHOD:PUBLISH
X-WR-CALNAME:Prospects
X-ORIGINAL-URL:https://prospectsfoundation.org.uk
X-WR-CALDESC:Events for Prospects
BEGIN:VTIMEZONE
TZID:Europe/London
BEGIN:DAYLIGHT
TZOFFSETFROM:+0000
TZOFFSETTO:+0100
TZNAME:BST
DTSTART:20250330T010000
END:DAYLIGHT
BEGIN:STANDARD
TZOFFSETFROM:+0100
TZOFFSETTO:+0000
TZNAME:GMT
DTSTART:20251026T010000
END:STANDARD
END:VTIMEZONE
BEGIN:VEVENT
DTSTART;TZID=Europe/London:20250628T130000
DTEND;TZID=Europe/London:20250628T150000
DTSTAMP:20260423T055558
CREATED:20250529T124913Z
LAST-MODIFIED:20250529T124913Z
UID:14453-1751115600-1751122800@prospectsfoundation.org.uk
SUMMARY:Brookside at the Stanhill Village Fete
DESCRIPTION:Volunteers and project staff will be at the Stanhill Village Fete 2025. Come and say hi\, ask questions\, and hear all about our exciting plans for the future at Brookside. \nFor more information please visit the EVENT PAGE \nAll are welcome\, please contact the fete team for any questions about the day – stanhillfete@gmail.com \n  \nBrookside at the Stanhill Village Fete
URL:https://prospectsfoundation.org.uk/event/brookside-at-the-stanhill-village-fete/
LOCATION:Brookside\, Stanhill Road\, Oswaldtwistle\, BB5 4PP
CATEGORIES:Conservation,Health and wellbeing,Volunteering,Walking,Woodlands
ATTACH;FMTTYPE=image/png:https://prospectsfoundation.org.uk/wp-content/uploads/2025/02/Logo-2.0.png
ORGANIZER;CN="Alice%20Pooley":MAILTO:alice.pooley@prospectsfoundation.org.uk
END:VEVENT
END:VCALENDAR