BEGIN:VCALENDAR
VERSION:2.0
PRODID:-//Prospects - ECPv5.14.1//NONSGML v1.0//EN
CALSCALE:GREGORIAN
METHOD:PUBLISH
X-WR-CALNAME:Prospects
X-ORIGINAL-URL:https://prospectsfoundation.org.uk
X-WR-CALDESC:Events for Prospects
BEGIN:VTIMEZONE
TZID:Europe/London
BEGIN:DAYLIGHT
TZOFFSETFROM:+0000
TZOFFSETTO:+0100
TZNAME:BST
DTSTART:20220327T010000
END:DAYLIGHT
BEGIN:STANDARD
TZOFFSETFROM:+0100
TZOFFSETTO:+0000
TZNAME:GMT
DTSTART:20221030T010000
END:STANDARD
END:VTIMEZONE
BEGIN:VEVENT
DTSTART;TZID=Europe/London:20220406T130000
DTEND;TZID=Europe/London:20220406T150000
DTSTAMP:20260423T050335
CREATED:20220311T144804Z
LAST-MODIFIED:20220311T144804Z
UID:6810-1649250000-1649257200@prospectsfoundation.org.uk
SUMMARY:Bluebell Identification
DESCRIPTION:Join Gareth & Donna for a spot of bluebell identification at Martholme Greenway! \nLearn the difference between the English\, Spanish and hybrid bluebells! \nContact Gareth – gareth.muir@prospectsfoundation.org.uk to book your place and to find out more! \nBluebell Identification
URL:https://prospectsfoundation.org.uk/event/bluebell-identification/
LOCATION:Martholme Greenway\, Martholme Greenway Martholme Lane\, Great Harwood\, Blackburn\, BB6 7UQ
CATEGORIES:Conservation,Walking,Woodlands
ORGANIZER;CN="Gareth%20Muir%20-%20Rewilding%20Officer":MAILTO:gareth.muir@prospectsfoundation.org.uk
END:VEVENT
END:VCALENDAR