BEGIN:VCALENDAR
VERSION:2.0
PRODID:-//Prospects - ECPv5.14.1//NONSGML v1.0//EN
CALSCALE:GREGORIAN
METHOD:PUBLISH
X-WR-CALNAME:Prospects
X-ORIGINAL-URL:https://prospectsfoundation.org.uk
X-WR-CALDESC:Events for Prospects
BEGIN:VTIMEZONE
TZID:Europe/London
BEGIN:DAYLIGHT
TZOFFSETFROM:+0000
TZOFFSETTO:+0100
TZNAME:BST
DTSTART:20240331T010000
END:DAYLIGHT
BEGIN:STANDARD
TZOFFSETFROM:+0100
TZOFFSETTO:+0000
TZNAME:GMT
DTSTART:20241027T010000
END:STANDARD
END:VTIMEZONE
BEGIN:VEVENT
DTSTART;TZID=Europe/London:20240803T100000
DTEND;TZID=Europe/London:20240803T120000
DTSTAMP:20260420T014844
CREATED:20240705T144654Z
LAST-MODIFIED:20240730T130311Z
UID:12373-1722679200-1722686400@prospectsfoundation.org.uk
SUMMARY:Big Butterfly Count at Brookside
DESCRIPTION:PROSPECTS will be taking part in the Big Butterfly Count in July & August! Novice or expert\, join us in the national event to help monitor the health of butterfly populations! The sessions involve 15 minute stops in a sunny location\, where we will be counting any visiting butterflies. \nFor the Brookside count\, we will be meeting at the Kemp Delph Entrance on Stanhill Road at 10am. \nWhat3words: Crowned.Sits.Paths \nIf you’d like to take part in the Big Butterfly Count in your own garden or green space\, then check the Butterfly Conservation Website for more information. \nAll counts are subject to weather conditions. In the event of strong winds or rain\, the session will be postponed! \nFor more info\, contact Alice at alice.pooley@prospectsfoundation.org.uk \n\nBig Butterfly Count at Brookside
URL:https://prospectsfoundation.org.uk/event/big-butterfly-count-at-brookside/
LOCATION:Brookside\, Stanhill Road\, Oswaldtwistle\, BB5 4PP
CATEGORIES:Conservation,Family,Health and wellbeing,Outdoor Learning,Volunteering,Walking,Woodlands
ATTACH;FMTTYPE=image/png:https://prospectsfoundation.org.uk/wp-content/uploads/2024/07/Big-Butterfly-Count-Square.png
ORGANIZER;CN="Alice%20Pooley":MAILTO:alice.pooley@prospectsfoundation.org.uk
END:VEVENT
END:VCALENDAR