BEGIN:VCALENDAR
VERSION:2.0
PRODID:-//Prospects - ECPv5.14.1//NONSGML v1.0//EN
CALSCALE:GREGORIAN
METHOD:PUBLISH
X-WR-CALNAME:Prospects
X-ORIGINAL-URL:https://prospectsfoundation.org.uk
X-WR-CALDESC:Events for Prospects
BEGIN:VTIMEZONE
TZID:Europe/London
BEGIN:DAYLIGHT
TZOFFSETFROM:+0000
TZOFFSETTO:+0100
TZNAME:BST
DTSTART:20230326T010000
END:DAYLIGHT
BEGIN:STANDARD
TZOFFSETFROM:+0100
TZOFFSETTO:+0000
TZNAME:GMT
DTSTART:20231029T010000
END:STANDARD
END:VTIMEZONE
BEGIN:VEVENT
DTSTART;TZID=Europe/London:20230912T110000
DTEND;TZID=Europe/London:20230912T133000
DTSTAMP:20260426T010806
CREATED:20230829T130734Z
LAST-MODIFIED:20230829T130734Z
UID:10332-1694516400-1694525400@prospectsfoundation.org.uk
SUMMARY:BeeWalk at Peel Park and the Coppice LNR!
DESCRIPTION:Join us for a monthly bumblebee survey on Peel Park and the Coppice LNR. We will be doing a BeeWalk\, a nationwide bumblebee survey ran by the Bumblebee Conservation Trust! \nThis survey is subject to weather conditions. \nDate: Tuesday 12th September\, 11am – 12:30pm\nLocation: Peel Park and the Coppice LNR car park (next to the bowling green) at the end of Peel Park Avenue \nContact Robert:\nrobert.gabryszak@prospectsfoundation.org.uk\nto find out more or book a place. \nBeeWalk at Peel Park and the Coppice LNR!
URL:https://prospectsfoundation.org.uk/event/beewalk-at-peel-park-and-the-coppice-lnr-3/
LOCATION:Peel Park and the Coppice Local Nature Reserve\, Main car park off Peel Park Avenue (next to the bowling green)\, Accrington\, Lancashire\, BB5 6HL\, United Kingdom
CATEGORIES:Family,Health and wellbeing,Outdoor Learning,Peel Park and the Coppice LNR,Walking
ATTACH;FMTTYPE=image/png:https://prospectsfoundation.org.uk/wp-content/uploads/2023/08/3.png
ORGANIZER;CN="Gemma%20McMullan":MAILTO:gemma.mcmullan@prospectsfoundation.org.uk
END:VEVENT
END:VCALENDAR