BEGIN:VCALENDAR
VERSION:2.0
PRODID:-//Prospects - ECPv5.14.1//NONSGML v1.0//EN
CALSCALE:GREGORIAN
METHOD:PUBLISH
X-WR-CALNAME:Prospects
X-ORIGINAL-URL:https://prospectsfoundation.org.uk
X-WR-CALDESC:Events for Prospects
BEGIN:VTIMEZONE
TZID:Europe/London
BEGIN:DAYLIGHT
TZOFFSETFROM:+0000
TZOFFSETTO:+0100
TZNAME:BST
DTSTART:20230326T010000
END:DAYLIGHT
BEGIN:STANDARD
TZOFFSETFROM:+0100
TZOFFSETTO:+0000
TZNAME:GMT
DTSTART:20231029T010000
END:STANDARD
END:VTIMEZONE
BEGIN:VEVENT
DTSTART;TZID=Europe/London:20230810T130000
DTEND;TZID=Europe/London:20230810T150000
DTSTAMP:20260426T042625
CREATED:20230630T143056Z
LAST-MODIFIED:20230727T144849Z
UID:10153-1691672400-1691679600@prospectsfoundation.org.uk
SUMMARY:Bees & Butterflies & Moths\, Oh my! at Peel Park and the Coppice LNR
DESCRIPTION:Join us for a guided walk through Peel Park and the Coppice LNR to search for pollinators like bees\, butterflies and moths in the May/June half-term. \nPollinators are incredibly important for our ecosystems and we would not have Peel Park and the Coppice without them. This walk will hope to improve your understanding and appreciation of these mini-heroes. \nPerfect for families\, children must be accompanied by an adult. \nDate: Thursday 10th July\, 1pm – 3pm\nLocation: Peel Park and the Coppice LNR car park (next to the bowling green) at the end of Peel Park Avenue \nContact Robert:\nrobert.gabryszak@prospectsfoundation.org.uk\nto find out more or book a place. \nBees & Butterflies & Moths\, Oh my! at Peel Park and the Coppice LNR
URL:https://prospectsfoundation.org.uk/event/bees-butterflies-moths-oh-my-at-peel-park-and-the-coppice-lnr-3/
LOCATION:Peel Park and the Coppice Local Nature Reserve\, Main car park off Peel Park Avenue (next to the bowling green)\, Accrington\, Lancashire\, BB5 6HL\, United Kingdom
CATEGORIES:Family,Health and wellbeing,Outdoor Learning,Peel Park and the Coppice LNR,Walking
ATTACH;FMTTYPE=image/png:https://prospectsfoundation.org.uk/wp-content/uploads/2023/07/4.png
ORGANIZER;CN="Gemma%20McMullan":MAILTO:gemma.mcmullan@prospectsfoundation.org.uk
END:VEVENT
END:VCALENDAR