BEGIN:VCALENDAR
VERSION:2.0
PRODID:-//Prospects - ECPv5.14.1//NONSGML v1.0//EN
CALSCALE:GREGORIAN
METHOD:PUBLISH
X-WR-CALNAME:Prospects
X-ORIGINAL-URL:https://prospectsfoundation.org.uk
X-WR-CALDESC:Events for Prospects
BEGIN:VTIMEZONE
TZID:Europe/London
BEGIN:DAYLIGHT
TZOFFSETFROM:+0000
TZOFFSETTO:+0100
TZNAME:BST
DTSTART:20190331T010000
END:DAYLIGHT
BEGIN:STANDARD
TZOFFSETFROM:+0100
TZOFFSETTO:+0000
TZNAME:GMT
DTSTART:20191027T010000
END:STANDARD
END:VTIMEZONE
BEGIN:VEVENT
DTSTART;TZID=Europe/London:20191216T200000
DTEND;TZID=Europe/London:20191216T210000
DTSTAMP:20260422T110502
CREATED:20191126T112020Z
LAST-MODIFIED:20191126T112020Z
UID:2274-1576526400-1576530000@prospectsfoundation.org.uk
SUMMARY:BAXENDEN COMMUNITY FORUM XMAS SOCIAL
DESCRIPTION:The Baxenden Community Forum will be meeting for a brief meeting and a social get together for Christmas. \nThe get together will start at 8.00pm in the Alma Inn on Manchester Road in Baxenden.  It will last for about an hour and is a chance for an informal update and to meet the members. \nThe group is currently working on projects including Woodnook Vale\, Hollins Woodland\, Jubilee Plantation and Haworth Rose Garden. \nThe Forum always welcomes new members. \nBAXENDEN COMMUNITY FORUM XMAS SOCIAL
URL:https://prospectsfoundation.org.uk/event/baxenden-community-forum-xmas-social/
LOCATION:Alma Inn\, 386-388 Manchester Road\, Accrington\, Lancashire\, BB5 2QG\, United Kingdom
CATEGORIES:Volunteering
ATTACH;FMTTYPE=image/jpeg:https://prospectsfoundation.org.uk/wp-content/uploads/2019/10/Baxenden-Logo-1-e1582557975354.jpg
END:VEVENT
END:VCALENDAR