BEGIN:VCALENDAR
VERSION:2.0
PRODID:-//Prospects - ECPv5.14.1//NONSGML v1.0//EN
CALSCALE:GREGORIAN
METHOD:PUBLISH
X-WR-CALNAME:Prospects
X-ORIGINAL-URL:https://prospectsfoundation.org.uk
X-WR-CALDESC:Events for Prospects
BEGIN:VTIMEZONE
TZID:Europe/London
BEGIN:DAYLIGHT
TZOFFSETFROM:+0000
TZOFFSETTO:+0100
TZNAME:BST
DTSTART:20200329T010000
END:DAYLIGHT
BEGIN:STANDARD
TZOFFSETFROM:+0100
TZOFFSETTO:+0000
TZNAME:GMT
DTSTART:20201025T010000
END:STANDARD
END:VTIMEZONE
BEGIN:VEVENT
DTSTART;TZID=Europe/London:20200224T193000
DTEND;TZID=Europe/London:20200224T203000
DTSTAMP:20260422T191533
CREATED:20200127T111047Z
LAST-MODIFIED:20200127T111053Z
UID:2586-1582572600-1582576200@prospectsfoundation.org.uk
SUMMARY:BAXENDEN COMMUNITY FORUM MEETING
DESCRIPTION:The Baxenden Community Forum will be meeting to update\, identify and progress a number of projects around the village. \nThe group meets at 7.30pm in the Alma Inn on Manchester Road in Baxenden.  The meetings tend to last for just over an hour. \nThe group is currently working on projects including Woodnook Vale\, Hollins Woodland\, Jubilee Plantation and Haworth Rose Garden. \nThe Forum always welcomes new members. \nBAXENDEN COMMUNITY FORUM MEETING
URL:https://prospectsfoundation.org.uk/event/baxenden-community-forum-feb20/
LOCATION:Alma Inn\, 386-388 Manchester Road\, Accrington\, Lancashire\, BB5 2QG\, United Kingdom
END:VEVENT
END:VCALENDAR