BEGIN:VCALENDAR
VERSION:2.0
PRODID:-//Prospects - ECPv5.14.1//NONSGML v1.0//EN
CALSCALE:GREGORIAN
METHOD:PUBLISH
X-WR-CALNAME:Prospects
X-ORIGINAL-URL:https://prospectsfoundation.org.uk
X-WR-CALDESC:Events for Prospects
BEGIN:VTIMEZONE
TZID:Europe/London
BEGIN:DAYLIGHT
TZOFFSETFROM:+0000
TZOFFSETTO:+0100
TZNAME:BST
DTSTART:20250330T010000
END:DAYLIGHT
BEGIN:STANDARD
TZOFFSETFROM:+0100
TZOFFSETTO:+0000
TZNAME:GMT
DTSTART:20251026T010000
END:STANDARD
END:VTIMEZONE
BEGIN:VEVENT
DTSTART;TZID=Europe/London:20251003T183000
DTEND;TZID=Europe/London:20251003T203000
DTSTAMP:20260422T163536
CREATED:20250828T100736Z
LAST-MODIFIED:20250828T125714Z
UID:15173-1759516200-1759523400@prospectsfoundation.org.uk
SUMMARY:Bat Walk at Jackhouse Nature Reserve
DESCRIPTION:Join us for a walk around the reserve to look for bats! Our local ‘Batman’ Roger Cunliffe will be leading the walk and letting us know all about the fascinating world of bats. The walk will provide a great opportunity for you to explore the reserve at night as part of a group. Families are welcome\, no dogs please. \nBring a torch! There will be hi-vis available for children. \nWe will be meeting at the main gates on Pot House Lane\, BB5 3RS. Parking spaces close to the site are limited\, however there is road-side parking available on Broadfield/Fielding Lane. If you do park here\, please take into account the 10-15 minute walk to the main gates. Staff will be wearing an orange high-vis. \nTo book a place\, please email robert.gabryszak@prospectsfoundation.org.uk\, telephone 01254 230348 or call into the Prospects office at 54 Broadway\, Accrington. \nBat Walk at Jackhouse Nature Reserve
URL:https://prospectsfoundation.org.uk/event/bat-walk-at-jackhouse-nature-reserve/
LOCATION:Jackhouse Nature Reserve\, Pot House Lane\, Oswaldtwistle\, BB5 3RS
CATEGORIES:Conservation,Family,Health and wellbeing,Outdoor Learning,Walking
ATTACH;FMTTYPE=image/png:https://prospectsfoundation.org.uk/wp-content/uploads/2025/08/Bat-Walk-Jackhouse.png
ORGANIZER;CN="Helen%20Earnshaw%20-%20Green%20Spaces%20Officer":MAILTO:helen.earnshaw@prospectsfoundation.org.uk
END:VEVENT
END:VCALENDAR