BEGIN:VCALENDAR
VERSION:2.0
PRODID:-//Prospects - ECPv5.14.1//NONSGML v1.0//EN
CALSCALE:GREGORIAN
METHOD:PUBLISH
X-WR-CALNAME:Prospects
X-ORIGINAL-URL:https://prospectsfoundation.org.uk
X-WR-CALDESC:Events for Prospects
BEGIN:VTIMEZONE
TZID:Europe/London
BEGIN:DAYLIGHT
TZOFFSETFROM:+0000
TZOFFSETTO:+0100
TZNAME:BST
DTSTART:20240331T010000
END:DAYLIGHT
BEGIN:STANDARD
TZOFFSETFROM:+0100
TZOFFSETTO:+0000
TZNAME:GMT
DTSTART:20241027T010000
END:STANDARD
END:VTIMEZONE
BEGIN:VEVENT
DTSTART;TZID=Europe/London:20240523T100000
DTEND;TZID=Europe/London:20240523T150000
DTSTAMP:20260424T190224
CREATED:20240521T114705Z
LAST-MODIFIED:20240521T114705Z
UID:12073-1716458400-1716476400@prospectsfoundation.org.uk
SUMMARY:Ash Tree Survey at Brookside
DESCRIPTION:Join our Brookside Restoration Coordinator Alice for a day of practical conservation work on the brand new Brookside Site! \nUnfortunately many of the Ash trees at Brookside are infected with the deadly ash dieback fungus (Hymenoscyphus fraxineus). Research lead by the Royal Botanic Gardens\, Kew suggests that up to 85% of UK ash trees will die from the disease. (You can read more about this research HERE)\, and little can be done to save the trees once infected. \nHowever\, it is increasingly important to understand which of the trees survive. Over the next 18 months we aim to collect data on how many of our trees remain healthy\, using a basic ash dieback survey. \nMeeting point is the Kemp Delph entrance to Brookside\, on Stanhill Road. Staff will be in orange hi-vis. \nWhat3words: crowned.sits.paths  \nNo experience is necessary – just bring your enthusiasm! \n\nAll ages welcome but under 18s must be accompanied by a parent or guardian.\nPlease wear suitable outdoor clothes (long trousers and wellies/ walking boots)\nPlease bring lunch. Teas\, coffees\, and biscuits will be provided by PROSPECTS\n\nThere are no toilets on site\, but there is a pub close-by which has full facilities. \nTo find out more or confirm your attendance\, please contact Alice at alice.pooley@prospectsfoundation.org.uk\, telephone 01254 230348\, or call into the Prospects office at 54 Broadway\, Accrington\, BB5 1EW. \n \nAsh Tree Survey at Brookside
URL:https://prospectsfoundation.org.uk/event/ash-tree-survey-at-brookside/
LOCATION:Brookside\, Stanhill Road\, Oswaldtwistle\, BB5 4PP
CATEGORIES:Conservation,Health and wellbeing,Volunteering,Woodlands
ATTACH;FMTTYPE=image/jpeg:https://prospectsfoundation.org.uk/wp-content/uploads/2024/05/1000034018.jpg
ORGANIZER;CN="Alice%20Pooley":MAILTO:alice.pooley@prospectsfoundation.org.uk
END:VEVENT
END:VCALENDAR