BEGIN:VCALENDAR
VERSION:2.0
PRODID:-//Prospects - ECPv5.14.1//NONSGML v1.0//EN
CALSCALE:GREGORIAN
METHOD:PUBLISH
X-WR-CALNAME:Prospects
X-ORIGINAL-URL:https://prospectsfoundation.org.uk
X-WR-CALDESC:Events for Prospects
BEGIN:VTIMEZONE
TZID:Europe/London
BEGIN:DAYLIGHT
TZOFFSETFROM:+0000
TZOFFSETTO:+0100
TZNAME:BST
DTSTART:20220327T010000
END:DAYLIGHT
BEGIN:STANDARD
TZOFFSETFROM:+0100
TZOFFSETTO:+0000
TZNAME:GMT
DTSTART:20221030T010000
END:STANDARD
END:VTIMEZONE
BEGIN:VEVENT
DTSTART;TZID=Europe/London:20220228T120000
DTEND;TZID=Europe/London:20220228T170000
DTSTAMP:20260423T011329
CREATED:20220209T134130Z
LAST-MODIFIED:20220209T134130Z
UID:6717-1646049600-1646067600@prospectsfoundation.org.uk
SUMMARY:Ash Die back talk with Lancashire Wildlife Trust
DESCRIPTION:Join John Haddon from Lancashire Wildlife Trust for a talk about Ash Dieback disease. \nTopics covered include: \nWhat is ash die back \nHow to identify trees with ash die back \nWhen to intervene when a tree has ash die back \nZoning woodlands for ash die back management \nPlaces are limited so please contact Gareth – gareth.muir@prospectsfoundation.org.uk to book your place! \nAsh Die back talk with Lancashire Wildlife Trust
URL:https://prospectsfoundation.org.uk/event/ash-die-back-talk-with-lancashire-wildlife-trust/
LOCATION:Prospects Environment Centre\, 54 Broadway\, Accrington\, BB51EW\, United Kingdom
CATEGORIES:Conservation,Woodlands
ORGANIZER;CN="Gareth%20Muir%20-%20Woodlands%20Officer":MAILTO:gareth.muir@prospectsfoundation.org.uk
END:VEVENT
END:VCALENDAR