BEGIN:VCALENDAR
VERSION:2.0
PRODID:-//Prospects - ECPv5.14.1//NONSGML v1.0//EN
CALSCALE:GREGORIAN
METHOD:PUBLISH
X-WR-CALNAME:Prospects
X-ORIGINAL-URL:https://prospectsfoundation.org.uk
X-WR-CALDESC:Events for Prospects
BEGIN:VTIMEZONE
TZID:Europe/London
BEGIN:DAYLIGHT
TZOFFSETFROM:+0000
TZOFFSETTO:+0100
TZNAME:BST
DTSTART:20190331T010000
END:DAYLIGHT
BEGIN:STANDARD
TZOFFSETFROM:+0100
TZOFFSETTO:+0000
TZNAME:GMT
DTSTART:20191027T010000
END:STANDARD
END:VTIMEZONE
BEGIN:VEVENT
DTSTART;TZID=Europe/London:20191126T110000
DTEND;TZID=Europe/London:20191126T130000
DTSTAMP:20260422T094746
CREATED:20191028T164052Z
LAST-MODIFIED:20191029T154341Z
UID:1986-1574766000-1574773200@prospectsfoundation.org.uk
SUMMARY:ALL SAINTS CHURCH GARDENING WORKSHOP
DESCRIPTION:Join All Saints Gardening Club to prepare the Church Grounds for Winter and dig over the rockery ready for Spring planting. \nRefreshments and tools provided. \nPlease dress for the weather! \nFor more information\, please contact Julie Livesey at Prospects Foundation: \n01254 230348 \nemail: julie.livesey@prospectsfoundation.org.uk \nALL SAINTS CHURCH GARDENING WORKSHOP
URL:https://prospectsfoundation.org.uk/event/all-saints-church-gardening-workshop/
LOCATION:All Saints Church\, Clayton-le-Moors\, BB5 5HT\, United Kingdom
CATEGORIES:Gardening
ORGANIZER;CN="Activity%20Organiser":MAILTO:barbara.sharples@prospectsfoundation.org.uk
END:VEVENT
END:VCALENDAR