BEGIN:VCALENDAR
VERSION:2.0
PRODID:-//Prospects - ECPv5.14.1//NONSGML v1.0//EN
CALSCALE:GREGORIAN
METHOD:PUBLISH
X-WR-CALNAME:Prospects
X-ORIGINAL-URL:https://prospectsfoundation.org.uk
X-WR-CALDESC:Events for Prospects
BEGIN:VTIMEZONE
TZID:Europe/London
BEGIN:DAYLIGHT
TZOFFSETFROM:+0000
TZOFFSETTO:+0100
TZNAME:BST
DTSTART:20250330T010000
END:DAYLIGHT
BEGIN:STANDARD
TZOFFSETFROM:+0100
TZOFFSETTO:+0000
TZNAME:GMT
DTSTART:20251026T010000
END:STANDARD
END:VTIMEZONE
BEGIN:VEVENT
DTSTART;TZID=Europe/London:20250702T183000
DTEND;TZID=Europe/London:20250702T200000
DTSTAMP:20260422T103021
CREATED:20250610T092708Z
LAST-MODIFIED:20250610T100418Z
UID:14550-1751481000-1751486400@prospectsfoundation.org.uk
SUMMARY:Accessible Mini Wildflower ID Walk @Northern Gateway (Peel Park & the Coppice LNR)
DESCRIPTION:Have you been looking for an accessible intro to wildflower ID? Join Robert for short walk at the Northern Gateway where PROSPECTS has been managing the space as a wildflower patch for over 3 years. \nThe area is now full of Bird’s-foot-trefoil\, Common Knapweed\, Oxeye Daisy\, Common Vetch\, Yellow Rattle and more! \nThe Northern Gateway has a highly accessible ramp around the meadow area which is perfect for prams\, wheelchairs\, and anyone who struggles to walk long distances. The Friends Of Arden Hall & The Coppice will be doing some weeding after the walk if you would like to stay to help. \n\nDate: Wednesday 2nd July 2025\nTime: 6:30pm\nWalk length: 5 minutes\, but there will be plenty of wildflowers to stop and look at!\nLocation: We will be meeting at the Peel Park & the Coppice sign at the Northern Gateway\, at the top of Peel Park Avenue. There is a car park next to the Peel Park Bowling Club green.\n\nUnder 18s must be accompanied by an adult. No dogs please. \nContact robert.gabryszak@prospectsfoundation.org.uk to register your interest! \nAccessible Mini Wildflower ID Walk @Northern Gateway (Peel Park & the Coppice LNR)
URL:https://prospectsfoundation.org.uk/event/accessible-mini-wildflower-id-walk-northern-gateway-peel-park-the-coppice-lnr/
LOCATION:Northern Gateway @Peel Park & the Coppice LNR\, 24 Peel Park Avenue\, Accrington\, Lancashire\, BB5 6HF\, United Kingdom
CATEGORIES:Family,Peel Park and the Coppice LNR,Walking
ATTACH;FMTTYPE=image/png:https://prospectsfoundation.org.uk/wp-content/uploads/2025/06/Square-Thumbnails-and-October-2024-2.png
ORGANIZER;CN="Robert%20Gabryszak%20-%20LNR%20Project%20Officer":MAILTO:robert.gabryszak@prospectsfoundation.org.uk
END:VEVENT
END:VCALENDAR