BEGIN:VCALENDAR
VERSION:2.0
PRODID:-//Prospects - ECPv5.14.1//NONSGML v1.0//EN
CALSCALE:GREGORIAN
METHOD:PUBLISH
X-WR-CALNAME:Prospects
X-ORIGINAL-URL:https://prospectsfoundation.org.uk
X-WR-CALDESC:Events for Prospects
BEGIN:VTIMEZONE
TZID:Europe/London
BEGIN:DAYLIGHT
TZOFFSETFROM:+0000
TZOFFSETTO:+0100
TZNAME:BST
DTSTART:20210328T010000
END:DAYLIGHT
BEGIN:STANDARD
TZOFFSETFROM:+0100
TZOFFSETTO:+0000
TZNAME:GMT
DTSTART:20211031T010000
END:STANDARD
END:VTIMEZONE
BEGIN:VEVENT
DTSTART;TZID=Europe/London:20210722T130000
DTEND;TZID=Europe/London:20210722T160000
DTSTAMP:20260422T170838
CREATED:20210709T100733Z
LAST-MODIFIED:20210709T100733Z
UID:5190-1626958800-1626969600@prospectsfoundation.org.uk
SUMMARY:Abbott Clough - Balsam Pull & Litterpick
DESCRIPTION:If you would like to attend please contact Project Officer – Gareth Muir. \nIf you are not an existing volunteer with PROSPECTS Foundation please fill in the volunteering form here: https://prospectsfoundation.org.uk/volunteering-application-form/ \nThe meeting point is on Abbott Clough Avenue near Wyndsors World of Shoes. \nAbbott Clough – Balsam Pull & Litterpick
URL:https://prospectsfoundation.org.uk/event/abbott-clough-balsam-pull-litterpick/
LOCATION:Abbott Clough\, Abbott Clough Avenue\, BB1 3LP
CATEGORIES:Conservation,Volunteering,Woodlands
ORGANIZER;CN="Gareth%20Muir%20-%20Woodlands%20Officer":MAILTO:gareth.muir@prospectsfoundation.org.uk
END:VEVENT
END:VCALENDAR