BEGIN:VCALENDAR
VERSION:2.0
PRODID:-//Prospects - ECPv5.14.1//NONSGML v1.0//EN
CALSCALE:GREGORIAN
METHOD:PUBLISH
X-WR-CALNAME:Prospects
X-ORIGINAL-URL:https://prospectsfoundation.org.uk
X-WR-CALDESC:Events for Prospects
BEGIN:VTIMEZONE
TZID:Europe/London
BEGIN:DAYLIGHT
TZOFFSETFROM:+0000
TZOFFSETTO:+0100
TZNAME:BST
DTSTART:20210328T010000
END:DAYLIGHT
BEGIN:STANDARD
TZOFFSETFROM:+0100
TZOFFSETTO:+0000
TZNAME:GMT
DTSTART:20211031T010000
END:STANDARD
END:VTIMEZONE
BEGIN:VEVENT
DTSTART;TZID=Europe/London:20210902T100000
DTEND;TZID=Europe/London:20210902T130000
DTSTAMP:20260422T142058
CREATED:20210820T084727Z
LAST-MODIFIED:20210820T084727Z
UID:5491-1630576800-1630587600@prospectsfoundation.org.uk
SUMMARY:Abbot Clough Balsam pull
DESCRIPTION:Abbot Clough Balsam pull
URL:https://prospectsfoundation.org.uk/event/abbot-clough-balsam-pull/
LOCATION:Abbott Clough\, Abbott Clough Avenue\, BB1 3LP
CATEGORIES:Conservation,Volunteering,Woodlands
END:VEVENT
END:VCALENDAR